BEGIN:VCALENDAR
CALSCALE:GREGORIAN
X-WR-TIMEZONE;VALUE=TEXT:Europe/Stockholm
METHOD:PUBLISH
PRODID:-//Apple Computer, Inc//iCal 1.0//EN
X-WR-CALNAME;VALUE=TEXT:Teknikträff Skåne 25 -27 augusti, anmälan
X-WR-TIMEZONE;VALUE=TEXT:Europe/Stockholm
VERSION:2.0
BEGIN:VEVENT
SUMMARY:Teknikträff Skåne 25 -27 augusti, anmälan
DTSTART:20220825
DTEND:20220825
URL:https://dethleffsclub.se/atlas/calendar/event.php?id=707536
END:VEVENT
END:VCALENDAR
